BEGIN:VCALENDAR
VERSION:2.0
PRODID:spatie/icalendar-generator
DESCRIPTION:Veranstaltungen von Marketing-und-Verkauf
X-WR-CALDESC:Veranstaltungen von Marketing-und-Verkauf
REFRESH-INTERVAL;VALUE=DURATION:PT1440M
X-PUBLISHED-TTL:PT1440M
BEGIN:VTIMEZONE
TZID:Europe/Berlin
BEGIN:STANDARD
DTSTART:20231029T030000Z
TZOFFSETFROM:+0200
TZOFFSETTO:+0100
END:STANDARD
BEGIN:DAYLIGHT
DTSTART:20240331T020000Z
TZOFFSETFROM:+0100
TZOFFSETTO:+0200
END:DAYLIGHT
BEGIN:STANDARD
DTSTART:20241027T030000Z
TZOFFSETFROM:+0200
TZOFFSETTO:+0100
END:STANDARD
END:VTIMEZONE
BEGIN:VTIMEZONE
TZID:UTC
BEGIN:STANDARD
DTSTART:20250725T053052Z
TZOFFSETFROM:+0000
TZOFFSETTO:+0000
END:STANDARD
END:VTIMEZONE
BEGIN:VEVENT
UID:1318-1275
DTSTAMP:20260421T053052Z
SUMMARY:Contra 2024 - Exzellentes Marketing
LOCATION:
ORGANIZER;CN=inge:MAILTO:bernd-steglich@web.de
DTSTART;TZID=Europe/Berlin;VALUE=DATE:20240605
DTEND;TZID=Europe/Berlin;VALUE=DATE:20240607
X-ALT-DESC;FMTTYPE=TEXT/HTML:+++  So geht Online-Marketing ... heute und z
 ukünftig  +++ Die Erfolgsstory Contra\, das größte Marketing Event Deu
 tschlands geht in die 12. Runde. Alle Experten sind sich einig: Online-Mar
 keting zu beherrschen macht den Unterschied zwischen Erfolg und Misserfolg
 . Die Contra holt für Sie über 60 Top-Experten auf die Bühne\, die auss
 chließlich Instrumente und Methoden nutzen\, die&amp;hellip\;
CATEGORIES:Seminar/Kongress
URL;VALUE=URI:https://marketing-und-verkauf.com/mc-events/contra-2024-exzel
 lentes-marketing/
METHOD:PUBLISH
END:VEVENT
END:VCALENDAR