BEGIN:VCALENDAR
VERSION:2.0
PRODID:spatie/icalendar-generator
DESCRIPTION:Veranstaltungen von Marketing-und-Verkauf
X-WR-CALDESC:Veranstaltungen von Marketing-und-Verkauf
REFRESH-INTERVAL;VALUE=DURATION:PT1440M
X-PUBLISHED-TTL:PT1440M
BEGIN:VTIMEZONE
TZID:Europe/Berlin
BEGIN:STANDARD
DTSTART:20201025T030000Z
TZOFFSETFROM:+0200
TZOFFSETTO:+0100
END:STANDARD
BEGIN:DAYLIGHT
DTSTART:20210328T020000Z
TZOFFSETFROM:+0100
TZOFFSETTO:+0200
END:DAYLIGHT
END:VTIMEZONE
BEGIN:VTIMEZONE
TZID:UTC
BEGIN:STANDARD
DTSTART:20250728T161357Z
TZOFFSETFROM:+0000
TZOFFSETTO:+0000
END:STANDARD
END:VTIMEZONE
BEGIN:VEVENT
UID:308-298
DTSTAMP:20260424T161357Z
SUMMARY:Unternehmer-Challenge
LOCATION:
ORGANIZER;CN=inge:MAILTO:bernd-steglich@web.de
DTSTART;TZID=Europe/Berlin;VALUE=DATE:20210205
DTEND;TZID=Europe/Berlin;VALUE=DATE:20210208
X-ALT-DESC;FMTTYPE=TEXT/HTML:+++ „Das verdammte Virus kann mich mal...“
  +++ Hier geht es nicht um „Überlebenskampf“ sondern darum\, zu den 
 „verrückten“ Unternehmern und Selbständigen zu gehören\, die auch i
 n einer Pandemie ihre Umsätze steigern. Während der 3-tägigen kostenfre
 ien Online-Challenge bekommst Du das dafür erforderliche exklusive Untern
 ehmerwissen. „Eine Investition in Wissen bringt immer noch die besten Zi
 nsen.“ (Benjamin&amp;hellip\;
CATEGORIES:Online-Kongress
URL;VALUE=URI:https://marketing-und-verkauf.com/mc-events/unternehmer-chall
 enge/
METHOD:PUBLISH
END:VEVENT
END:VCALENDAR