BEGIN:VCALENDAR
VERSION:2.0
PRODID:spatie/icalendar-generator
DESCRIPTION:Veranstaltungen von Marketing-und-Verkauf
X-WR-CALDESC:Veranstaltungen von Marketing-und-Verkauf
REFRESH-INTERVAL;VALUE=DURATION:PT1440M
X-PUBLISHED-TTL:PT1440M
BEGIN:VTIMEZONE
TZID:Europe/Berlin
BEGIN:DAYLIGHT
DTSTART:20210328T020000Z
TZOFFSETFROM:+0100
TZOFFSETTO:+0200
END:DAYLIGHT
BEGIN:STANDARD
DTSTART:20211031T030000Z
TZOFFSETFROM:+0200
TZOFFSETTO:+0100
END:STANDARD
BEGIN:DAYLIGHT
DTSTART:20220327T020000Z
TZOFFSETFROM:+0100
TZOFFSETTO:+0200
END:DAYLIGHT
END:VTIMEZONE
BEGIN:VTIMEZONE
TZID:UTC
BEGIN:STANDARD
DTSTART:20250724T163626Z
TZOFFSETFROM:+0000
TZOFFSETTO:+0000
END:STANDARD
END:VTIMEZONE
BEGIN:VEVENT
UID:570-551
DTSTAMP:20260420T163626Z
SUMMARY:Neukundengewinnung mit YouTube
LOCATION:
ORGANIZER;CN=inge:MAILTO:bernd-steglich@web.de
DTSTART;TZID=Europe/Berlin:20211001T173000
DTEND;TZID=Europe/Berlin:20211001T183000
X-ALT-DESC;FMTTYPE=TEXT/HTML:In diesem kostenfreien Online-Training kannst 
 Du live \"über die Schulter schauen\"\, wie YouTube  Dir täglich kaufbe
 reite Neukunden liefert und diese Strategie 98% Deiner Mitbewerber noch ni
 cht nutzt.
CATEGORIES:Online-Training
URL;VALUE=URI:https://marketing-und-verkauf.com/mc-events/neukundengewinnun
 g-mit-youtube-6/
METHOD:PUBLISH
END:VEVENT
END:VCALENDAR