BEGIN:VCALENDAR
VERSION:2.0
PRODID:spatie/icalendar-generator
DESCRIPTION:Veranstaltungen von Marketing-und-Verkauf
X-WR-CALDESC:Veranstaltungen von Marketing-und-Verkauf
REFRESH-INTERVAL;VALUE=DURATION:PT1440M
X-PUBLISHED-TTL:PT1440M
BEGIN:VTIMEZONE
TZID:Europe/Berlin
BEGIN:STANDARD
DTSTART:20191027T030000Z
TZOFFSETFROM:+0200
TZOFFSETTO:+0100
END:STANDARD
BEGIN:DAYLIGHT
DTSTART:20200329T020000Z
TZOFFSETFROM:+0100
TZOFFSETTO:+0200
END:DAYLIGHT
BEGIN:STANDARD
DTSTART:20201025T030000Z
TZOFFSETFROM:+0200
TZOFFSETTO:+0100
END:STANDARD
END:VTIMEZONE
BEGIN:VTIMEZONE
TZID:UTC
BEGIN:STANDARD
DTSTART:20250728T104221Z
TZOFFSETFROM:+0000
TZOFFSETTO:+0000
END:STANDARD
END:VTIMEZONE
BEGIN:VEVENT
UID:86-82
DTSTAMP:20260424T104221Z
SUMMARY:Schlüssel zu Ihrem Erfolg
LOCATION:
ORGANIZER;CN=inge:MAILTO:bernd-steglich@web.de
DTSTART;TZID=Europe/Berlin;VALUE=DATE:20200417
DTEND;TZID=Europe/Berlin;VALUE=DATE:20200424
X-ALT-DESC;FMTTYPE=TEXT/HTML:Auf diesem kostenfreien Online-Kongress lernst
  Du u.a.: - wie Du mit Deiner Ausstrahlung Interessenten magisch anziehst 
 und in Kunden verwandelst - wie Du erfolgreiche Verkaufsgespräche führst
 ...offline &amp;amp\; online - u.v.a.m.
CATEGORIES:Online-Kongress
URL;VALUE=URI:https://marketing-und-verkauf.com/mc-events/schluessel-zu-ihr
 em-erfolg/
METHOD:PUBLISH
END:VEVENT
END:VCALENDAR