BEGIN:VCALENDAR
VERSION:2.0
PRODID:spatie/icalendar-generator
DESCRIPTION:Veranstaltungen von Marketing-und-Verkauf
X-WR-CALDESC:Veranstaltungen von Marketing-und-Verkauf
REFRESH-INTERVAL;VALUE=DURATION:PT1440M
X-PUBLISHED-TTL:PT1440M
BEGIN:VTIMEZONE
TZID:Europe/Berlin
BEGIN:DAYLIGHT
DTSTART:20220327T020000Z
TZOFFSETFROM:+0100
TZOFFSETTO:+0200
END:DAYLIGHT
BEGIN:STANDARD
DTSTART:20221030T030000Z
TZOFFSETFROM:+0200
TZOFFSETTO:+0100
END:STANDARD
BEGIN:DAYLIGHT
DTSTART:20230326T020000Z
TZOFFSETFROM:+0100
TZOFFSETTO:+0200
END:DAYLIGHT
END:VTIMEZONE
BEGIN:VTIMEZONE
TZID:UTC
BEGIN:STANDARD
DTSTART:20250723T230425Z
TZOFFSETFROM:+0000
TZOFFSETTO:+0000
END:STANDARD
END:VTIMEZONE
BEGIN:VEVENT
UID:934-901
DTSTAMP:20260419T230425Z
SUMMARY:Präsenz ist sexy!
LOCATION:
ORGANIZER;CN=inge:MAILTO:bernd-steglich@web.de
DTSTART;TZID=Europe/Berlin;VALUE=DATE:20221006
DTEND;TZID=Europe/Berlin;VALUE=DATE:20221015
X-ALT-DESC;FMTTYPE=TEXT/HTML:Mehr Sichtbarkeit bedeutet mehr Erfolg! Wer ni
 cht auffällt\, fällt schlicht und einfach weg. Lass Dich vom 6.10. – 1
 4.10.2022 von 34 Top-Experten und Unternehmern auf Deinem Weg in die erfol
 greiche Sichtbarkeit begleiten. Acht Tage bekommst Du kostenfrei exklusive
 s Wissen und Live Trainings zu den Themen: + Mindset &amp;amp\; Authentizität
  + Netzwerken &amp;amp\; Social Media +&amp;hellip\;
CATEGORIES:Online-Kongress
URL;VALUE=URI:https://marketing-und-verkauf.com/mc-events/praesenz-ist-sexy
 /
METHOD:PUBLISH
END:VEVENT
END:VCALENDAR