BEGIN:VCALENDAR
VERSION:2.0
PRODID:spatie/icalendar-generator
DESCRIPTION:Veranstaltungen von Marketing-und-Verkauf
X-WR-CALDESC:Veranstaltungen von Marketing-und-Verkauf
REFRESH-INTERVAL;VALUE=DURATION:PT1440M
X-PUBLISHED-TTL:PT1440M
BEGIN:VTIMEZONE
TZID:Europe/Berlin
BEGIN:DAYLIGHT
DTSTART:20230326T020000Z
TZOFFSETFROM:+0100
TZOFFSETTO:+0200
END:DAYLIGHT
BEGIN:STANDARD
DTSTART:20231029T030000Z
TZOFFSETFROM:+0200
TZOFFSETTO:+0100
END:STANDARD
BEGIN:DAYLIGHT
DTSTART:20240331T020000Z
TZOFFSETFROM:+0100
TZOFFSETTO:+0200
END:DAYLIGHT
END:VTIMEZONE
BEGIN:VTIMEZONE
TZID:UTC
BEGIN:STANDARD
DTSTART:20250726T054245Z
TZOFFSETFROM:+0000
TZOFFSETTO:+0000
END:STANDARD
END:VTIMEZONE
BEGIN:VEVENT
UID:1308-1267
DTSTAMP:20260422T054245Z
SUMMARY:Kundengewinnung - Anders als das bisherige!
LOCATION:
ORGANIZER;CN=inge:MAILTO:bernd-steglich@web.de
DTSTART;TZID=Europe/Berlin:20231126T110000
DTEND;TZID=Europe/Berlin:20231126T120000
X-ALT-DESC;FMTTYPE=TEXT/HTML:Jens und Pascal\, führend in D-A-CH im Bereic
 h Online-Marketing enthüllen eine brandneue\, innovative Methodik der Kun
 dengewinnung. Es klingt verrückt\, aber es funktioniert: 5-6 stellige Ein
 nahmen pro Monat - ohne Ausgaben für bezahlte Werbung tägliche Kundenanf
 ragen für hochpreisige Coachings und Dienstleistungen Dieses bahnbrechend
 e System ist ein echter Durchbruch und es wird die Szene extrem verändern
 . Kostenfreies&amp;hellip\;
CATEGORIES:Online-Training
URL;VALUE=URI:https://marketing-und-verkauf.com/mc-events/kundengewinnung-a
 nders-als-das-bisherige/
METHOD:PUBLISH
END:VEVENT
END:VCALENDAR