BEGIN:VCALENDAR
VERSION:2.0
PRODID:spatie/icalendar-generator
DESCRIPTION:Veranstaltungen von Marketing-und-Verkauf
X-WR-CALDESC:Veranstaltungen von Marketing-und-Verkauf
REFRESH-INTERVAL;VALUE=DURATION:PT1440M
X-PUBLISHED-TTL:PT1440M
BEGIN:VTIMEZONE
TZID:Europe/Berlin
BEGIN:STANDARD
DTSTART:20231029T030000Z
TZOFFSETFROM:+0200
TZOFFSETTO:+0100
END:STANDARD
BEGIN:DAYLIGHT
DTSTART:20240331T020000Z
TZOFFSETFROM:+0100
TZOFFSETTO:+0200
END:DAYLIGHT
END:VTIMEZONE
BEGIN:VTIMEZONE
TZID:UTC
BEGIN:STANDARD
DTSTART:20250725T180706Z
TZOFFSETFROM:+0000
TZOFFSETTO:+0000
END:STANDARD
END:VTIMEZONE
BEGIN:VEVENT
UID:1320-1277
DTSTAMP:20260421T180706Z
SUMMARY:One Idea Online Summit
LOCATION:
ORGANIZER;CN=inge:MAILTO:bernd-steglich@web.de
DTSTART;TZID=Europe/Berlin;VALUE=DATE:20240302
DTEND;TZID=Europe/Berlin;VALUE=DATE:20240305
X-ALT-DESC;FMTTYPE=TEXT/HTML:+++ Eine Reise zu den Sternen des Online-Marke
 tings +++ Stellen Sie sich vor\, Sie sind auf einer Reise\, die Ihr Busine
 ss komplett auf Erfolg umkrempelt. Das Ziel dieser Reise: ONE IDEA ONLINE 
 SUMMIT! An drei 3 Tagen treffen Sie die klügsten und erfolgreichsten Köp
 fe im Online-Marketing\, die schon jahrelang im Geschäft sind und Million
 en-Umsätze generieren.&amp;hellip\;
CATEGORIES:Online-Kongress
URL;VALUE=URI:https://marketing-und-verkauf.com/mc-events/one-idea-online-s
 ummit/
METHOD:PUBLISH
END:VEVENT
END:VCALENDAR