BEGIN:VCALENDAR
VERSION:2.0
PRODID:spatie/icalendar-generator
DESCRIPTION:Veranstaltungen von Marketing-und-Verkauf
X-WR-CALDESC:Veranstaltungen von Marketing-und-Verkauf
REFRESH-INTERVAL;VALUE=DURATION:PT1440M
X-PUBLISHED-TTL:PT1440M
BEGIN:VTIMEZONE
TZID:Europe/Berlin
BEGIN:STANDARD
DTSTART:20231029T030000Z
TZOFFSETFROM:+0200
TZOFFSETTO:+0100
END:STANDARD
BEGIN:DAYLIGHT
DTSTART:20240331T020000Z
TZOFFSETFROM:+0100
TZOFFSETTO:+0200
END:DAYLIGHT
BEGIN:STANDARD
DTSTART:20241027T030000Z
TZOFFSETFROM:+0200
TZOFFSETTO:+0100
END:STANDARD
END:VTIMEZONE
BEGIN:VTIMEZONE
TZID:UTC
BEGIN:STANDARD
DTSTART:20250728T072401Z
TZOFFSETFROM:+0000
TZOFFSETTO:+0000
END:STANDARD
END:VTIMEZONE
BEGIN:VEVENT
UID:1340-1297
DTSTAMP:20260424T072401Z
SUMMARY:Deine eigene Fan-Community
LOCATION:
ORGANIZER;CN=inge:MAILTO:bernd-steglich@web.de
DTSTART;TZID=Europe/Berlin:20240620T190000
DTEND;TZID=Europe/Berlin:20240620T200000
X-ALT-DESC;FMTTYPE=TEXT/HTML:Community-Aufbau ist gerade das heißeste Them
 a im Online-Marketing und ein wirklicher Trendsetter. Wie Du Deine eigene\
 , aktive Community aufbaust\, Deine Reichweite und Sichtbarkeit drastisch 
 erhöhst und so automatisch Umsatz\, Honorare und Neukunden generierst - u
 nabhängig von skool und anderen Plattformen - lernst Du in diesem kostenf
 reien 100% live Online Praxis-Workshop.
CATEGORIES:Online-Training
URL;VALUE=URI:https://marketing-und-verkauf.com/mc-events/deine-eigene-fan-
 community-2/
METHOD:PUBLISH
END:VEVENT
END:VCALENDAR