BEGIN:VCALENDAR
VERSION:2.0
PRODID:spatie/icalendar-generator
DESCRIPTION:Veranstaltungen von Marketing-und-Verkauf
X-WR-CALDESC:Veranstaltungen von Marketing-und-Verkauf
REFRESH-INTERVAL;VALUE=DURATION:PT1440M
X-PUBLISHED-TTL:PT1440M
BEGIN:VTIMEZONE
TZID:Europe/Berlin
BEGIN:STANDARD
DTSTART:20201025T030000Z
TZOFFSETFROM:+0200
TZOFFSETTO:+0100
END:STANDARD
BEGIN:DAYLIGHT
DTSTART:20210328T020000Z
TZOFFSETFROM:+0100
TZOFFSETTO:+0200
END:DAYLIGHT
BEGIN:STANDARD
DTSTART:20211031T030000Z
TZOFFSETFROM:+0200
TZOFFSETTO:+0100
END:STANDARD
END:VTIMEZONE
BEGIN:VTIMEZONE
TZID:UTC
BEGIN:STANDARD
DTSTART:20250728T135043Z
TZOFFSETFROM:+0000
TZOFFSETTO:+0000
END:STANDARD
END:VTIMEZONE
BEGIN:VEVENT
UID:492-477
DTSTAMP:20260424T135043Z
SUMMARY:Neukunden über Google generieren
LOCATION:
ORGANIZER;CN=inge:MAILTO:bernd-steglich@web.de
DTSTART;TZID=Europe/Berlin:20210716T190000
DTEND;TZID=Europe/Berlin:20210716T200000
X-ALT-DESC;FMTTYPE=TEXT/HTML:- Sie möchten Ihre Umsätze steigern\, ohne G
 eld ins Marketing zu stecken? - Sie möchten nicht nur Platz 1 bei Google\
 , sondern die Suchergebnisse dominieren? - Sie möchten sich Ihre Kunden a
 ussuchen\, nicht umgekehrt? - Sie möchten keine Kaltakquise mehr betreibe
 n? All das erfahren Sie in diesem kostenfreien Spezial Online-Coaching.
CATEGORIES:Online-Training
URL;VALUE=URI:https://marketing-und-verkauf.com/mc-events/neukunden-ueber-g
 oogle-generieren-3/
METHOD:PUBLISH
END:VEVENT
END:VCALENDAR