BEGIN:VCALENDAR
VERSION:2.0
PRODID:spatie/icalendar-generator
DESCRIPTION:Veranstaltungen von Marketing-und-Verkauf
X-WR-CALDESC:Veranstaltungen von Marketing-und-Verkauf
REFRESH-INTERVAL;VALUE=DURATION:PT1440M
X-PUBLISHED-TTL:PT1440M
BEGIN:VTIMEZONE
TZID:Europe/Berlin
BEGIN:STANDARD
DTSTART:20191027T030000Z
TZOFFSETFROM:+0200
TZOFFSETTO:+0100
END:STANDARD
BEGIN:DAYLIGHT
DTSTART:20200329T020000Z
TZOFFSETFROM:+0100
TZOFFSETTO:+0200
END:DAYLIGHT
END:VTIMEZONE
BEGIN:VTIMEZONE
TZID:UTC
BEGIN:STANDARD
DTSTART:20250725T081655Z
TZOFFSETFROM:+0000
TZOFFSETTO:+0000
END:STANDARD
END:VTIMEZONE
BEGIN:VEVENT
UID:6-6
DTSTAMP:20260421T081655Z
SUMMARY:Scherer-Live
LOCATION:
ORGANIZER;CN=inge:MAILTO:bernd-steglich@web.de
DTSTART;TZID=Europe/Berlin:20200308T110000
DTEND;TZID=Europe/Berlin:20200308T180000
X-ALT-DESC;FMTTYPE=TEXT/HTML:+++ Du bist gut – aber keiner weiß es? +++ 
 Es ist kein Event\, es ist ein Erlebnis! In „Hermann Scherer live“ geh
 t es um die richtige (Experten-)Positionierung\, mit der Du als  Berater\
 , Coach\, Trainer und Selbständiger Dein Business in die Pole Position br
 ingst. Gekauft werden statt verkaufen!
CATEGORIES:Seminar/Kongress
URL;VALUE=URI:https://marketing-und-verkauf.com/mc-events/scherer-live/
METHOD:PUBLISH
END:VEVENT
END:VCALENDAR