BEGIN:VCALENDAR
VERSION:2.0
PRODID:spatie/icalendar-generator
DESCRIPTION:Veranstaltungen von Marketing-und-Verkauf
X-WR-CALDESC:Veranstaltungen von Marketing-und-Verkauf
REFRESH-INTERVAL;VALUE=DURATION:PT1440M
X-PUBLISHED-TTL:PT1440M
BEGIN:VTIMEZONE
TZID:Europe/Berlin
BEGIN:STANDARD
DTSTART:20211031T030000Z
TZOFFSETFROM:+0200
TZOFFSETTO:+0100
END:STANDARD
BEGIN:DAYLIGHT
DTSTART:20220327T020000Z
TZOFFSETFROM:+0100
TZOFFSETTO:+0200
END:DAYLIGHT
BEGIN:STANDARD
DTSTART:20221030T030000Z
TZOFFSETFROM:+0200
TZOFFSETTO:+0100
END:STANDARD
END:VTIMEZONE
BEGIN:VTIMEZONE
TZID:UTC
BEGIN:STANDARD
DTSTART:20250725T133327Z
TZOFFSETFROM:+0000
TZOFFSETTO:+0000
END:STANDARD
END:VTIMEZONE
BEGIN:VEVENT
UID:780-754
DTSTAMP:20260421T133327Z
SUMMARY:6-stelliger Umsatz mit Partner-Marketing
LOCATION:
ORGANIZER;CN=inge:MAILTO:bernd-steglich@web.de
DTSTART;TZID=Europe/Berlin:20220510T200000
DTEND;TZID=Europe/Berlin:20220510T210000
X-ALT-DESC;FMTTYPE=TEXT/HTML:Einer der erfahrensten Business-Coaches im deu
 tschsprachigen Raum\, Dirk-Michael Lambert veranstaltet eine exklusives 3-
 teilige Praxis-Masterclass....kostenfrei. 100% Live und online zeigt er: #
  Was Partner-Marketing ist und warum Du es einsetzen musst! # Wie Du sofor
 t 100x mehr Menschen erreichst mit Deinem Angebot! # Wie Du Deine Liste in
  Rekordzeit aufbaust über die Listen anderer Anbieter! #&amp;hellip\;
CATEGORIES:Online-Training
URL;VALUE=URI:https://marketing-und-verkauf.com/mc-events/6-stelliger-umsat
 z-mit-partner-marketing-3/
METHOD:PUBLISH
END:VEVENT
END:VCALENDAR